BEGIN:VCALENDAR
VERSION:2.0
PRODID:-//Fredericksburg Regional Genealogical Society - ECPv6.15.15//NONSGML v1.0//EN
CALSCALE:GREGORIAN
METHOD:PUBLISH
X-WR-CALNAME:Fredericksburg Regional Genealogical Society
X-ORIGINAL-URL:https://www.vafrgs.org
X-WR-CALDESC:Events for Fredericksburg Regional Genealogical Society
REFRESH-INTERVAL;VALUE=DURATION:PT1H
X-Robots-Tag:noindex
X-PUBLISHED-TTL:PT1H
BEGIN:VTIMEZONE
TZID:America/New_York
BEGIN:DAYLIGHT
TZOFFSETFROM:-0500
TZOFFSETTO:-0400
TZNAME:EDT
DTSTART:20230312T070000
END:DAYLIGHT
BEGIN:STANDARD
TZOFFSETFROM:-0400
TZOFFSETTO:-0500
TZNAME:EST
DTSTART:20231105T060000
END:STANDARD
BEGIN:DAYLIGHT
TZOFFSETFROM:-0500
TZOFFSETTO:-0400
TZNAME:EDT
DTSTART:20240310T070000
END:DAYLIGHT
BEGIN:STANDARD
TZOFFSETFROM:-0400
TZOFFSETTO:-0500
TZNAME:EST
DTSTART:20241103T060000
END:STANDARD
BEGIN:DAYLIGHT
TZOFFSETFROM:-0500
TZOFFSETTO:-0400
TZNAME:EDT
DTSTART:20250309T070000
END:DAYLIGHT
BEGIN:STANDARD
TZOFFSETFROM:-0400
TZOFFSETTO:-0500
TZNAME:EST
DTSTART:20251102T060000
END:STANDARD
END:VTIMEZONE
BEGIN:VEVENT
DTSTART;TZID=America/New_York:20240109T190000
DTEND;TZID=America/New_York:20240109T200000
DTSTAMP:20260421T231652
CREATED:20240107T011101Z
LAST-MODIFIED:20240107T011808Z
UID:2571-1704826800-1704830400@www.vafrgs.org
SUMMARY:FRGS Irish SIG
DESCRIPTION:Every First Monday of each month from 7 to 8 PM ET \n\n\n\n\n\n\nFRGS is hosting an upcoming Irish SIG Meeting.  The Irish SIG will meet regularly every first Monday of each month (except July\, August and December) from 7 to 8 PM ET.  The meeting will be held virtually via Zoom. \n\n\n\n\n\n\nTopic: What is New with FindMyPast\nFindMyPast will help you research Catholic records in the US and Ireland. \nSpeaker: Trish Little Taylor\n\n\n\n\n\nThe link to register for the meeting is below.
URL:https://www.vafrgs.org/event/frgs-irish-sig/
LOCATION:Virtual
CATEGORIES:FRGS SIG Meeting
ATTACH;FMTTYPE=image/png:https://www.vafrgs.org/wp-content/uploads/2024/01/Irish-SIG-Meeting-Banner-1.png
END:VEVENT
END:VCALENDAR